BEGIN:VCALENDAR
VERSION:2.0
PRODID:spatie/icalendar-generator
DESCRIPTION:Events from Rio Gallinas School for Ecology and the Arts
X-WR-CALDESC:Events from Rio Gallinas School for Ecology and the Arts
REFRESH-INTERVAL;VALUE=DURATION:PT1440M
X-PUBLISHED-TTL:PT1440M
BEGIN:VTIMEZONE
TZID:Etc/GMT+0
BEGIN:STANDARD
DTSTART:20250626T173000Z
TZOFFSETFROM:+0000
TZOFFSETTO:+0000
END:STANDARD
END:VTIMEZONE
BEGIN:VTIMEZONE
TZID:UTC
BEGIN:STANDARD
DTSTART:20250727T153207Z
TZOFFSETFROM:+0000
TZOFFSETTO:+0000
END:STANDARD
END:VTIMEZONE
BEGIN:VEVENT
UID:8-3
DTSTAMP:20260423T153207Z
SUMMARY:Community Schools Team Meeting
LOCATION:
ORGANIZER;CN=Aja Currey:MAILTO:director@riogallinasschool.org
DTSTART;TZID=Etc/GMT+0:20260323T173000
DTEND;TZID=Etc/GMT+0:20260323T183000
X-ALT-DESC;FMTTYPE=TEXT/HTML:
CATEGORIES:Academic Days
URL;VALUE=URI:https://riogallinasschool.org/mc-events/community-schools-tea
 m-meeting/
METHOD:PUBLISH
END:VEVENT
END:VCALENDAR