BEGIN:VCALENDAR
VERSION:2.0
PRODID:spatie/icalendar-generator
DESCRIPTION:Events from Rio Gallinas School for Ecology and the Arts
X-WR-CALDESC:Events from Rio Gallinas School for Ecology and the Arts
REFRESH-INTERVAL;VALUE=DURATION:PT1440M
X-PUBLISHED-TTL:PT1440M
BEGIN:VTIMEZONE
TZID:Etc/GMT+0
BEGIN:STANDARD
DTSTART:20250628T000000Z
TZOFFSETFROM:+0000
TZOFFSETTO:+0000
END:STANDARD
END:VTIMEZONE
BEGIN:VTIMEZONE
TZID:UTC
BEGIN:STANDARD
DTSTART:20250727T153111Z
TZOFFSETFROM:+0000
TZOFFSETTO:+0000
END:STANDARD
END:VTIMEZONE
BEGIN:VEVENT
UID:6-4
DTSTAMP:20260423T153111Z
SUMMARY:Assessment of Science Readiness
LOCATION:
ORGANIZER;CN=Aja Currey:MAILTO:director@riogallinasschool.org
DTSTART;TZID=Etc/GMT+0;VALUE=DATE:20260325
DTEND;TZID=Etc/GMT+0;VALUE=DATE:20260326
X-ALT-DESC;FMTTYPE=TEXT/HTML:Required testing for all 5th and 8th graders
CATEGORIES:Academic Days
URL;VALUE=URI:https://riogallinasschool.org/mc-events/assessment-of-science
 -readiness/
METHOD:PUBLISH
END:VEVENT
END:VCALENDAR