BEGIN:VCALENDAR
VERSION:2.0
PRODID:spatie/icalendar-generator
DESCRIPTION:Events from Rio Gallinas School for Ecology and the Arts
X-WR-CALDESC:Events from Rio Gallinas School for Ecology and the Arts
REFRESH-INTERVAL;VALUE=DURATION:PT1440M
X-PUBLISHED-TTL:PT1440M
BEGIN:VTIMEZONE
TZID:Etc/GMT+0
BEGIN:STANDARD
DTSTART:20250623T000000Z
TZOFFSETFROM:+0000
TZOFFSETTO:+0000
END:STANDARD
END:VTIMEZONE
BEGIN:VTIMEZONE
TZID:UTC
BEGIN:STANDARD
DTSTART:20250727T163504Z
TZOFFSETFROM:+0000
TZOFFSETTO:+0000
END:STANDARD
END:VTIMEZONE
BEGIN:VEVENT
UID:2-2
DTSTAMP:20260423T163504Z
SUMMARY:Scholar Led Conferences
LOCATION:
ORGANIZER;CN=Aja Currey:MAILTO:director@riogallinasschool.org
DTSTART;TZID=Etc/GMT+0;VALUE=DATE:20260320
DTEND;TZID=Etc/GMT+0;VALUE=DATE:20260321
X-ALT-DESC;FMTTYPE=TEXT/HTML:
CATEGORIES:Special Events
URL;VALUE=URI:https://riogallinasschool.org/mc-events/scholar-led-conferenc
 es/
METHOD:PUBLISH
END:VEVENT
END:VCALENDAR