BEGIN:VCALENDAR
VERSION:2.0
PRODID:spatie/icalendar-generator
DESCRIPTION:Events from Rio Gallinas School for Ecology and the Arts
X-WR-CALDESC:Events from Rio Gallinas School for Ecology and the Arts
REFRESH-INTERVAL;VALUE=DURATION:PT1440M
X-PUBLISHED-TTL:PT1440M
BEGIN:VTIMEZONE
TZID:Etc/GMT+0
BEGIN:STANDARD
DTSTART:20250816T173000Z
TZOFFSETFROM:+0000
TZOFFSETTO:+0000
END:STANDARD
END:VTIMEZONE
BEGIN:VTIMEZONE
TZID:UTC
BEGIN:STANDARD
DTSTART:20250727T165820Z
TZOFFSETFROM:+0000
TZOFFSETTO:+0000
END:STANDARD
END:VTIMEZONE
BEGIN:VEVENT
UID:13-8
DTSTAMP:20260423T165820Z
SUMMARY:Governing Council Meeting 5:30PM
LOCATION:
ORGANIZER;CN=Main Office:MAILTO:mainoffice@riogallinasschool.org
DTSTART;TZID=Etc/GMT+0:20260513T173000
DTEND;TZID=Etc/GMT+0:20260513T183000
X-ALT-DESC;FMTTYPE=TEXT/HTML:
CATEGORIES:Academic Days,  Governing Council Meeting
URL;VALUE=URI:https://riogallinasschool.org/mc-events/governing-council-mee
 ting-530pm-2/
METHOD:PUBLISH
END:VEVENT
END:VCALENDAR