BEGIN:VCALENDAR
VERSION:2.0
PRODID:spatie/icalendar-generator
DESCRIPTION:Events from Rio Gallinas School for Ecology and the Arts
X-WR-CALDESC:Events from Rio Gallinas School for Ecology and the Arts
REFRESH-INTERVAL;VALUE=DURATION:PT1440M
X-PUBLISHED-TTL:PT1440M
BEGIN:VTIMEZONE
TZID:Etc/GMT+0
BEGIN:STANDARD
DTSTART:20250711T083000Z
TZOFFSETFROM:+0000
TZOFFSETTO:+0000
END:STANDARD
END:VTIMEZONE
BEGIN:VTIMEZONE
TZID:UTC
BEGIN:STANDARD
DTSTART:20250727T142135Z
TZOFFSETFROM:+0000
TZOFFSETTO:+0000
END:STANDARD
END:VTIMEZONE
BEGIN:VEVENT
UID:9-6
DTSTAMP:20260423T142135Z
SUMMARY:1st grade field work to Wildlife Refuge
LOCATION:
ORGANIZER;CN=Aja Currey:MAILTO:director@riogallinasschool.org
DTSTART;TZID=Etc/GMT+0:20260407T083000
DTEND;TZID=Etc/GMT+0:20260407T110000
X-ALT-DESC;FMTTYPE=TEXT/HTML:
CATEGORIES:Academic Days
URL;VALUE=URI:https://riogallinasschool.org/mc-events/1st-grade-field-work-
 to-wildlife-refuge/
METHOD:PUBLISH
END:VEVENT
END:VCALENDAR