BEGIN:VCALENDAR
VERSION:2.0
PRODID:spatie/icalendar-generator
DESCRIPTION:Events from Rio Gallinas School for Ecology and the Arts
X-WR-CALDESC:Events from Rio Gallinas School for Ecology and the Arts
REFRESH-INTERVAL;VALUE=DURATION:PT1440M
X-PUBLISHED-TTL:PT1440M
BEGIN:VTIMEZONE
TZID:Etc/GMT+0
BEGIN:STANDARD
DTSTART:20250705T000000Z
TZOFFSETFROM:+0000
TZOFFSETTO:+0000
END:STANDARD
END:VTIMEZONE
BEGIN:VTIMEZONE
TZID:UTC
BEGIN:STANDARD
DTSTART:20250727T142353Z
TZOFFSETFROM:+0000
TZOFFSETTO:+0000
END:STANDARD
END:VTIMEZONE
BEGIN:VEVENT
UID:7-5
DTSTAMP:20260423T142353Z
SUMMARY:Professional Learning Day for Staff
LOCATION:
ORGANIZER;CN=Aja Currey:MAILTO:director@riogallinasschool.org
DTSTART;TZID=Etc/GMT+0;VALUE=DATE:20260401
DTEND;TZID=Etc/GMT+0;VALUE=DATE:20260402
X-ALT-DESC;FMTTYPE=TEXT/HTML:No school for scholars
CATEGORIES:Academic Days
URL;VALUE=URI:https://riogallinasschool.org/mc-events/professional-learning
 -day-for-staff/
METHOD:PUBLISH
END:VEVENT
END:VCALENDAR